BEGIN:VCALENDAR
VERSION:2.0
PRODID:icalendar-ruby
CALSCALE:GREGORIAN
METHOD:PUBLISH
BEGIN:VEVENT
DTSTAMP:20260425T004117Z
UID:17-1260280@wellingtonmethodist.com
DTSTART:20261018T134500Z
DTEND:20261018T144500Z
CLASS:PUBLIC
CREATED:20260424T174816
DESCRIPTION:8:45 Sunday Worship
LAST-MODIFIED:20260424T174816
LOCATION:
SUMMARY:8:45 Sunday Worship
URL;VALUE=URI:https://www.wellingtonmethodist.com/events/8-45-sunday-worshi
 p/2026-10-18
END:VEVENT
END:VCALENDAR
