BEGIN:VCALENDAR
VERSION:2.0
PRODID:icalendar-ruby
CALSCALE:GREGORIAN
METHOD:PUBLISH
BEGIN:VEVENT
DTSTAMP:20260425T023037Z
UID:17-1260955@wellingtonmethodist.com
DTSTART:20261025T134500Z
DTEND:20261025T144500Z
CLASS:PUBLIC
CREATED:20260424T203649
DESCRIPTION:8:45 Sunday Worship
LAST-MODIFIED:20260424T203649
LOCATION:
SUMMARY:8:45 Sunday Worship
URL;VALUE=URI:https://www.wellingtonmethodist.com/events/8-45-sunday-worshi
 p/2026-10-25
END:VEVENT
END:VCALENDAR
