BEGIN:VCALENDAR
VERSION:2.0
PRODID:icalendar-ruby
CALSCALE:GREGORIAN
METHOD:PUBLISH
BEGIN:VEVENT
DTSTAMP:20260425T043118Z
UID:17-1260956@wellingtonmethodist.com
DTSTART:20261101T144500Z
DTEND:20261101T154500Z
CLASS:PUBLIC
CREATED:20260424T203649
DESCRIPTION:8:45 Sunday Worship
LAST-MODIFIED:20260424T203649
LOCATION:
SUMMARY:8:45 Sunday Worship
URL;VALUE=URI:https://www.wellingtonmethodist.com/events/8-45-sunday-worshi
 p/2026-11-01
END:VEVENT
END:VCALENDAR
