BEGIN:VCALENDAR
VERSION:2.0
PRODID:icalendar-ruby
CALSCALE:GREGORIAN
METHOD:PUBLISH
BEGIN:VEVENT
DTSTAMP:20260424T014313Z
UID:61-1230081@wellingtonmethodist.com
DTSTART:20260426T160000Z
DTEND:20260426T180000Z
CLASS:PUBLIC
CREATED:20260417T105108
DESCRIPTION:Join us during 2nd service at 11am on Sunday\, April 26th as we
  celebrate 30 years of KCC! We would love for all former and current kids 
 and volunteers to be there! Stay after for lunch as we fellowship together
  and share memories of all that God has done through KCC over the years!
LAST-MODIFIED:20260417T105108
LOCATION:WMC
SUMMARY:Kids Crusader Club 30th Anniversary Celebration!
URL;VALUE=URI:https://www.wellingtonmethodist.com/events/kids-crusader-club
 -30th-anniversary-celebration/2026-04-26
ATTACH;FILENAME=Announcement-.png;FMTTYPE=image/png:https://dq5pwpg1q8ru0.c
 loudfront.net/2026/04/17/15/51/08/bca95bf5-f4bc-481f-94f3-554ec45cb306/Ann
 ouncement-.png
END:VEVENT
END:VCALENDAR
